BEGIN:VCALENDAR
VERSION:2.0
PRODID:-//Central Baptist Church - ECPv6.15.20//NONSGML v1.0//EN
CALSCALE:GREGORIAN
METHOD:PUBLISH
X-WR-CALNAME:Central Baptist Church
X-ORIGINAL-URL:https://centralbaptistsansaba.com
X-WR-CALDESC:Events for Central Baptist Church
REFRESH-INTERVAL;VALUE=DURATION:PT1H
X-Robots-Tag:noindex
X-PUBLISHED-TTL:PT1H
BEGIN:VTIMEZONE
TZID:America/Chicago
BEGIN:DAYLIGHT
TZOFFSETFROM:-0600
TZOFFSETTO:-0500
TZNAME:CDT
DTSTART:20230312T080000
END:DAYLIGHT
BEGIN:STANDARD
TZOFFSETFROM:-0500
TZOFFSETTO:-0600
TZNAME:CST
DTSTART:20231105T070000
END:STANDARD
BEGIN:DAYLIGHT
TZOFFSETFROM:-0600
TZOFFSETTO:-0500
TZNAME:CDT
DTSTART:20240310T080000
END:DAYLIGHT
BEGIN:STANDARD
TZOFFSETFROM:-0500
TZOFFSETTO:-0600
TZNAME:CST
DTSTART:20241103T070000
END:STANDARD
BEGIN:DAYLIGHT
TZOFFSETFROM:-0600
TZOFFSETTO:-0500
TZNAME:CDT
DTSTART:20250309T080000
END:DAYLIGHT
BEGIN:STANDARD
TZOFFSETFROM:-0500
TZOFFSETTO:-0600
TZNAME:CST
DTSTART:20251102T070000
END:STANDARD
BEGIN:DAYLIGHT
TZOFFSETFROM:-0600
TZOFFSETTO:-0500
TZNAME:CDT
DTSTART:20260308T080000
END:DAYLIGHT
BEGIN:STANDARD
TZOFFSETFROM:-0500
TZOFFSETTO:-0600
TZNAME:CST
DTSTART:20261101T070000
END:STANDARD
END:VTIMEZONE
BEGIN:VEVENT
DTSTART;TZID=America/Chicago:20250316T100000
DTEND;TZID=America/Chicago:20250316T120000
DTSTAMP:20260423T143406
CREATED:20241115T234053Z
LAST-MODIFIED:20241115T234053Z
UID:1945-1742119200-1742126400@centralbaptistsansaba.com
SUMMARY:Kids Day
DESCRIPTION:Dress the kids up… pictures will be taken.
URL:https://centralbaptistsansaba.com/event/kids-day/
LOCATION:Central Baptist Church\, 1001 W. Brown Street\, San Saba\, TX\, United States
END:VEVENT
BEGIN:VEVENT
DTSTART;TZID=America/Chicago:20250305T183000
DTEND;TZID=America/Chicago:20250305T203000
DTSTAMP:20260423T143406
CREATED:20250112T230452Z
LAST-MODIFIED:20250112T230452Z
UID:2034-1741199400-1741206600@centralbaptistsansaba.com
SUMMARY:Pioneer Kids : KICKOFF!!!!
DESCRIPTION:
URL:https://centralbaptistsansaba.com/event/pioneer-kids-kickoff/
LOCATION:TX
END:VEVENT
BEGIN:VEVENT
DTSTART;TZID=America/Chicago:20250302T100000
DTEND;TZID=America/Chicago:20250302T133000
DTSTAMP:20260423T143406
CREATED:20241115T233953Z
LAST-MODIFIED:20241115T233953Z
UID:1943-1740909600-1740922200@centralbaptistsansaba.com
SUMMARY:Pastor's Wife Appreciation Day
DESCRIPTION:Meal after the service.
URL:https://centralbaptistsansaba.com/event/pastors-wife-appreciation-day/
LOCATION:Central Baptist Church\, 1001 W. Brown Street\, San Saba\, TX\, United States
END:VEVENT
BEGIN:VEVENT
DTSTART;TZID=America/Chicago:20250301T100000
DTEND;TZID=America/Chicago:20250301T130000
DTSTAMP:20260423T143406
CREATED:20250112T225924Z
LAST-MODIFIED:20250112T225924Z
UID:2024-1740823200-1740834000@centralbaptistsansaba.com
SUMMARY:Men's Fellowship
DESCRIPTION:Watch here for details.
URL:https://centralbaptistsansaba.com/event/mens-fellowship/
LOCATION:Central Baptist Church\, 1001 W. Brown Street\, San Saba\, TX\, United States
END:VEVENT
BEGIN:VEVENT
DTSTART;TZID=America/Chicago:20250225T183000
DTEND;TZID=America/Chicago:20250225T200000
DTSTAMP:20260423T143406
CREATED:20250112T225751Z
LAST-MODIFIED:20250112T225751Z
UID:2021-1740508200-1740513600@centralbaptistsansaba.com
SUMMARY:Ladies Night
DESCRIPTION:
URL:https://centralbaptistsansaba.com/event/ladies-night/
LOCATION:Central Baptist Church\, 1001 W. Brown Street\, San Saba\, TX\, United States
END:VEVENT
BEGIN:VEVENT
DTSTART;TZID=America/Chicago:20250216T100000
DTEND;TZID=America/Chicago:20250216T120000
DTSTAMP:20260423T143406
CREATED:20241115T233811Z
LAST-MODIFIED:20241115T233811Z
UID:1941-1739700000-1739707200@centralbaptistsansaba.com
SUMMARY:Potluck
DESCRIPTION:
URL:https://centralbaptistsansaba.com/event/potluck/
LOCATION:Central Baptist Church\, 1001 W. Brown Street\, San Saba\, TX\, United States
END:VEVENT
BEGIN:VEVENT
DTSTART;TZID=America/Chicago:20250214T183000
DTEND;TZID=America/Chicago:20250214T200000
DTSTAMP:20260423T143406
CREATED:20250111T214628Z
LAST-MODIFIED:20250111T214628Z
UID:2017-1739557800-1739563200@centralbaptistsansaba.com
SUMMARY:Valentine Banquet
DESCRIPTION:
URL:https://centralbaptistsansaba.com/event/valentine-banquet/
LOCATION:Central Baptist Church\, 1001 W. Brown Street\, San Saba\, TX\, United States
END:VEVENT
BEGIN:VEVENT
DTSTART;TZID=America/Chicago:20250202T100000
DTEND;TZID=America/Chicago:20250202T120000
DTSTAMP:20260423T143406
CREATED:20241115T233719Z
LAST-MODIFIED:20250116T221044Z
UID:1939-1738490400-1738497600@centralbaptistsansaba.com
SUMMARY:Pack a Pew Day
DESCRIPTION:
URL:https://centralbaptistsansaba.com/event/pack-a-pew-day/
LOCATION:Central Baptist Church\, 1001 W. Brown Street\, San Saba\, TX\, United States
END:VEVENT
BEGIN:VEVENT
DTSTART;TZID=America/Chicago:20250119T120000
DTEND;TZID=America/Chicago:20250119T150000
DTSTAMP:20260423T143406
CREATED:20250116T220854Z
LAST-MODIFIED:20250116T220854Z
UID:2049-1737288000-1737298800@centralbaptistsansaba.com
SUMMARY:Potluck for Everyone after the Friend Service
DESCRIPTION:Everyone is welcome. It seems reasonable that you would attend the service. \nPotlucks are held in the back of the church. Bring whatever you want. If you are guest\, don’t worry about it. Just come on back. \nAfter blessing the meal\, a line forms on both sides of the kitchen island and you pick what looks good. \nThen just enjoy the meal\, have some good company\, and have a relaxing afternoon.
URL:https://centralbaptistsansaba.com/event/potluck-for-everyone-after-the-friend-service/
LOCATION:Central Baptist Church\, 1001 W. Brown Street\, San Saba\, TX\, United States
END:VEVENT
BEGIN:VEVENT
DTSTART;TZID=America/Chicago:20250119T100000
DTEND;TZID=America/Chicago:20250119T120000
DTSTAMP:20260423T143406
CREATED:20241115T233608Z
LAST-MODIFIED:20250116T221035Z
UID:1937-1737280800-1737288000@centralbaptistsansaba.com
SUMMARY:Bring a Friend Day
DESCRIPTION:Pot luck after the service.
URL:https://centralbaptistsansaba.com/event/bring-a-friend-day/
LOCATION:Central Baptist Church\, 1001 W. Brown Street\, San Saba\, TX\, United States
END:VEVENT
BEGIN:VEVENT
DTSTART;TZID=America/Chicago:20250105T100000
DTEND;TZID=America/Chicago:20250105T120000
DTSTAMP:20260423T143406
CREATED:20241115T040508Z
LAST-MODIFIED:20241115T040508Z
UID:1931-1736071200-1736078400@centralbaptistsansaba.com
SUMMARY:The New Beginning Service
DESCRIPTION:Sunday School campaign starts here!
URL:https://centralbaptistsansaba.com/event/the-new-beginning-service/
LOCATION:Central Baptist Church\, 1001 W. Brown Street\, San Saba\, TX\, United States
END:VEVENT
BEGIN:VEVENT
DTSTART;TZID=America/Chicago:20250101T183000
DTEND;TZID=America/Chicago:20250101T193000
DTSTAMP:20260423T143406
CREATED:20241115T040327Z
LAST-MODIFIED:20241115T040327Z
UID:1928-1735756200-1735759800@centralbaptistsansaba.com
SUMMARY:NO WEDNESDAY EVENING SERVICE
DESCRIPTION:Since we stayed up late for the Watch Night…
URL:https://centralbaptistsansaba.com/event/no-wednesday-evening-service/
LOCATION:TX
END:VEVENT
BEGIN:VEVENT
DTSTART;TZID=America/Chicago:20241231T200000
DTEND;TZID=America/Chicago:20250101T003000
DTSTAMP:20260423T143406
CREATED:20241115T040146Z
LAST-MODIFIED:20241115T040352Z
UID:1926-1735675200-1735691400@centralbaptistsansaba.com
SUMMARY:New Year's Eve Watch Gathering
DESCRIPTION:Come ring in the New year The Central Baptist Way! Food\, conversation\, prayer\, fellowship.
URL:https://centralbaptistsansaba.com/event/new-years-eve-watch-gathering/
LOCATION:Central Baptist Church\, 1001 W. Brown Street\, San Saba\, TX\, United States
END:VEVENT
BEGIN:VEVENT
DTSTART;TZID=America/Chicago:20241222T120000
DTEND;TZID=America/Chicago:20241222T130000
DTSTAMP:20260423T143406
CREATED:20241104T092118Z
LAST-MODIFIED:20241104T092118Z
UID:1910-1734868800-1734872400@centralbaptistsansaba.com
SUMMARY:Christmas Program
DESCRIPTION:
URL:https://centralbaptistsansaba.com/event/christmas-program/
LOCATION:TX
END:VEVENT
BEGIN:VEVENT
DTSTART;TZID=America/Chicago:20241222T050000
DTEND;TZID=America/Chicago:20241222T080000
DTSTAMP:20260423T143406
CREATED:20241104T090949Z
LAST-MODIFIED:20241104T090949Z
UID:1906-1734843600-1734854400@centralbaptistsansaba.com
SUMMARY:Christmas Meal
DESCRIPTION:
URL:https://centralbaptistsansaba.com/event/christmas-meal/
LOCATION:Central Baptist Church\, 1001 W. Brown Street\, San Saba\, TX\, United States
END:VEVENT
BEGIN:VEVENT
DTSTART;TZID=America/Chicago:20241214T080000
DTEND;TZID=America/Chicago:20241214T170000
DTSTAMP:20260423T143406
CREATED:20241115T041246Z
LAST-MODIFIED:20241115T041246Z
UID:1933-1734163200-1734195600@centralbaptistsansaba.com
SUMMARY:Ladies Meeting (see the venue)
DESCRIPTION:
URL:https://centralbaptistsansaba.com/event/ladies-meeting-see-the-venue/
LOCATION:Clifton Fundamental Baptist Church\, 403 W Pecan St\, Clifton\, TX\, 76634\, United States
END:VEVENT
BEGIN:VEVENT
DTSTART;TZID=America/Chicago:20241208T150000
DTEND;TZID=America/Chicago:20241208T170000
DTSTAMP:20260423T143406
CREATED:20241204T004152Z
LAST-MODIFIED:20241204T004152Z
UID:1999-1733670000-1733677200@centralbaptistsansaba.com
SUMMARY:Christmas Program Practice
DESCRIPTION:
URL:https://centralbaptistsansaba.com/event/christmas-program-practice/
LOCATION:Central Baptist Church\, 1001 W. Brown Street\, San Saba\, TX\, United States
END:VEVENT
BEGIN:VEVENT
DTSTART;TZID=America/Chicago:20241207T180000
DTEND;TZID=America/Chicago:20241207T200000
DTSTAMP:20260423T143406
CREATED:20241104T201527Z
LAST-MODIFIED:20241104T201706Z
UID:1913-1733594400-1733601600@centralbaptistsansaba.com
SUMMARY:Christmas Music Recital Program with Mrs Denise
DESCRIPTION:Come have some fun and listen to some amazing young musicians. \nRefreshments provided.
URL:https://centralbaptistsansaba.com/event/christmas-music-recital-program-with-mrs-denis/
LOCATION:Central Baptist Church\, 1001 W. Brown Street\, San Saba\, TX\, United States
END:VEVENT
BEGIN:VEVENT
DTSTART;TZID=America/Chicago:20241110T050000
DTEND;TZID=America/Chicago:20241110T080000
DTSTAMP:20260423T143406
CREATED:20241104T090203Z
LAST-MODIFIED:20241104T090203Z
UID:1903-1731214800-1731225600@centralbaptistsansaba.com
SUMMARY:Veteran's Message and Thanksgiving Meal
DESCRIPTION:
URL:https://centralbaptistsansaba.com/event/veterans-message-and-thanksgiving-meal/
LOCATION:Central Baptist Church\, 1001 W. Brown Street\, San Saba\, TX\, United States
END:VEVENT
END:VCALENDAR